{"text_format":"1","workbook":"xlsx","n_sheets":3,"sheets":["Acquisition_brut","PLXDAQ_new_Settings","Traitement"],"not_rendered":{"charts":0,"images":0,"macros":1,"external_links":0,"defined_names":1,"comments":0,"pivot_tables":0},"unopened":[],"bounds":{"document_bytes":16777216,"sheet_cells":100000,"rows_first":2000,"rows_last":500,"rows_between":2000,"halvings":0,"cell_chars":16384,"cell_head_chars":4096},"cells_cut":0,"cells_raw":0,"read":"whole","date_system":"1900"}

{"sheet":"Acquisition_brut","index":0,"n_rows":108,"n_cols":4,"rows_kept":108,"cut":false,"hidden":false,"merged":[]}
["Date","Heure",null,"N_Impulsions_E"]
["2020-01-16","11:37:25",null,0]
["2020-01-16","11:37:25",null,0]
["2020-01-16","11:37:26",null,184]
["2020-01-16","11:37:26",null,400]
["2020-01-16","11:37:27",null,632]
["2020-01-16","11:37:27",null,875]
["2020-01-16","11:37:28",null,1120]
["2020-01-16","11:37:28",null,1367]
["2020-01-16","11:37:29",null,1615]
["2020-01-16","11:37:29",null,1864]
["2020-01-16","11:37:30",null,2115]
["2020-01-16","11:37:30",null,2366]
["2020-01-16","11:37:31",null,2619]
["2020-01-16","11:37:31",null,2872]
["2020-01-16","11:37:32",null,3124]
["2020-01-16","11:37:32",null,3376]
["2020-01-16","11:37:33",null,3627]
["2020-01-16","11:37:33",null,3880]
["2020-01-16","11:37:34",null,4132]
["2020-01-16","11:37:34",null,4386]
["2020-01-16","11:37:35",null,4642]
["2020-01-16","11:37:35",null,4897]
["2020-01-16","11:37:36",null,5152]
["2020-01-16","11:37:36",null,5405]
["2020-01-16","11:37:37",null,5659]
["2020-01-16","11:37:37",null,5914]
["2020-01-16","11:37:38",null,6168]
["2020-01-16","11:37:38",null,6425]
["2020-01-16","11:37:39",null,6682]
["2020-01-16","11:37:39",null,6939]
["2020-01-16","11:37:40",null,7199]
["2020-01-16","11:37:40",null,7459]
["2020-01-16","11:37:41",null,7720]
["2020-01-16","11:37:41",null,7980]
["2020-01-16","11:37:42",null,8242]
["2020-01-16","11:37:42",null,8505]
["2020-01-16","11:37:43",null,8769]
["2020-01-16","11:37:43",null,9033]
["2020-01-16","11:37:44",null,9297]
["2020-01-16","11:37:44",null,9560]
["2020-01-16","11:37:45",null,9824]
["2020-01-16","11:37:45",null,10089]
["2020-01-16","11:37:46",null,10355]
["2020-01-16","11:37:46",null,10621]
["2020-01-16","11:37:47",null,10888]
["2020-01-16","11:37:47",null,11157]
["2020-01-16","11:37:48",null,11425]
["2020-01-16","11:37:48",null,11693]
["2020-01-16","11:37:49",null,11961]
["2020-01-16","11:37:49",null,12231]
["2020-01-16","11:37:50",null,12502]
["2020-01-16","11:37:50",null,12776]
["2020-01-16","11:37:51",null,13051]
["2020-01-16","11:37:51",null,13327]
["2020-01-16","11:37:52",null,13603]
["2020-01-16","11:37:52",null,13879]
["2020-01-16","11:37:53",null,14155]
["2020-01-16","11:37:53",null,14431]
["2020-01-16","11:37:54",null,14709]
["2020-01-16","11:37:54",null,14988]
["2020-01-16","11:37:55",null,15268]
["2020-01-16","11:37:55",null,15549]
["2020-01-16","11:37:56",null,15830]
["2020-01-16","11:37:56",null,16110]
["2020-01-16","11:37:57",null,16392]
["2020-01-16","11:37:57",null,16674]
["2020-01-16","11:37:58",null,16958]
["2020-01-16","11:37:58",null,17243]
["2020-01-16","11:37:59",null,17529]
["2020-01-16","11:37:59",null,17816]
["2020-01-16","11:38:00",null,18103]
["2020-01-16","11:38:00",null,18391]
["2020-01-16","11:38:01",null,18678]
["2020-01-16","11:38:01",null,18966]
["2020-01-16","11:38:02",null,19254]
["2020-01-16","11:38:02",null,19544]
["2020-01-16","11:38:03",null,19834]
["2020-01-16","11:38:03",null,20123]
["2020-01-16","11:38:04",null,20412]
["2020-01-16","11:38:04",null,20703]
["2020-01-16","11:38:05",null,20998]
["2020-01-16","11:38:05",null,21293]
["2020-01-16","11:38:06",null,21589]
["2020-01-16","11:38:06",null,21885]
["2020-01-16","11:38:07",null,22183]
["2020-01-16","11:38:07",null,22481]
["2020-01-16","11:38:08",null,22779]
["2020-01-16","11:38:08",null,23080]
["2020-01-16","11:38:09",null,23383]
["2020-01-16","11:38:09",null,23687]
["2020-01-16","11:38:10",null,23991]
["2020-01-16","11:38:10",null,24296]
["2020-01-16","11:38:11",null,24602]
["2020-01-16","11:38:11",null,24908]
["2020-01-16","11:38:12",null,25216]
["2020-01-16","11:38:12",null,25525]
["2020-01-16","11:38:13",null,25835]
["2020-01-16","11:38:13",null,26146]
["2020-01-16","11:38:14",null,26456]
["2020-01-16","11:38:14",null,26765]
["2020-01-16","11:38:15",null,27073]
["2020-01-16","11:38:15",null,27380]
["2020-01-16","11:38:16",null,27688]
["2020-01-16","11:38:16",null,27995]
["2020-01-16","11:38:17",null,28302]
["2020-01-16","11:38:17",null,28605]
["2020-01-16","11:38:18",null,28633]

{"sheet":"PLXDAQ_new_Settings","index":1,"n_rows":18,"n_cols":5,"rows_kept":18,"cut":false,"hidden":true,"merged":[[2,4,17,5]]}
[]
[]
[null,"Previous Port:",3,null,"DO NOT CHANGE THIS LAYOUT OR THE MACRO WONT WORK ANYMORE !!!!"]
[null,"Previous Baud:",9600]
[null,"Rst on Connect?:",true]
[null,"Custom Checkbox 1",true]
[null,"Custom Checkbox 2",true]
[null,"Custom Checkbox 3",false]
[null,"Sheet name to use:","Acquisition"]
[null,"Log Incoming to DDW:",true]
[null,"Log Outgoing to DDW:",true]
[null,"Log System to DDW:",true]
[null,"Add Timestamp to DDW:",true]
[null,"Custom Form Width:",536.25]
[null,"#EXPERT-CONFIG# Serial Device Read buffer:",1024]
[null,"#EXPERT-CONFIG# Serial Device Write buffer:",1024]
[null,"#EXPERT-CONFIG# Excel Read buffer size:",1024]
[null,"#EXPERT-CONFIG# Excel interim buffer size:",64]

{"sheet":"Traitement","index":2,"n_rows":108,"n_cols":5,"rows_kept":108,"cut":false,"hidden":false,"merged":[]}
["Heure","Seconde",{"$f":"Acquisition_brut!D1","v":"N_Impulsions_E"},null,"Angle Elévation"]
[{"$f":"Acquisition_brut!B2:B203","v":0.48431712962962964},{"$f":"(A2-$A$2)*100000","v":0},{"$f":"Acquisition_brut!D2:D573","v":0}]
[{"$f":"Acquisition_brut!B3:B204","v":0.48431712962962964},{"$f":"(A3-$A$2)*100000","v":0},{"$f":"Acquisition_brut!D3:D574","v":0}]
[{"$f":"Acquisition_brut!B4:B205","v":0.48432870370370368},1.1574074074038876,{"$f":"Acquisition_brut!D4:D575","v":184}]
[{"$f":"Acquisition_brut!B5:B206","v":0.48432870370370368},1.1574074074038876,{"$f":"Acquisition_brut!D5:D576","v":400}]
[{"$f":"Acquisition_brut!B6:B207","v":0.48434027777777783},2.3148148148188774,{"$f":"Acquisition_brut!D6:D577","v":632}]
[{"$f":"Acquisition_brut!B7:B208","v":0.48434027777777783},2.3148148148188774,{"$f":"Acquisition_brut!D7:D578","v":875}]
[{"$f":"Acquisition_brut!B8:B209","v":0.48435185185185187},3.472222222222765,{"$f":"Acquisition_brut!D8:D579","v":1120}]
[{"$f":"Acquisition_brut!B9:B210","v":0.48435185185185187},3.472222222222765,{"$f":"Acquisition_brut!D9:D580","v":1367}]
[{"$f":"Acquisition_brut!B10:B211","v":0.48436342592592596},4.6296296296322037,{"$f":"Acquisition_brut!D10:D581","v":1615}]
[{"$f":"Acquisition_brut!B11:B212","v":0.48436342592592596},4.6296296296322037,{"$f":"Acquisition_brut!D11:D582","v":1864}]
[{"$f":"Acquisition_brut!B12:B213","v":0.484375},5.7870370370360913,{"$f":"Acquisition_brut!D12:D583","v":2115}]
[{"$f":"Acquisition_brut!B13:B214","v":0.484375},5.7870370370360913,{"$f":"Acquisition_brut!D13:D584","v":2366}]
[{"$f":"Acquisition_brut!B14:B215","v":0.48438657407407404},6.9444444444399789,{"$f":"Acquisition_brut!D14:D585","v":2619}]
[{"$f":"Acquisition_brut!B15:B216","v":0.48438657407407404},6.9444444444399789,{"$f":"Acquisition_brut!D15:D586","v":2872}]
[{"$f":"Acquisition_brut!B16:B217","v":0.48439814814814813},{"$f":"(A16-$A$2)*100000","v":8.1018518518494176},{"$f":"Acquisition_brut!D16:D587","v":3124}]
[{"$f":"Acquisition_brut!B17:B218","v":0.48439814814814813},8.1018518518494176,{"$f":"Acquisition_brut!D17:D588","v":3376}]
[{"$f":"Acquisition_brut!B18:B219","v":0.48440972222222217},9.2592592592533052,{"$f":"Acquisition_brut!D18:D589","v":3627}]
[{"$f":"Acquisition_brut!B19:B220","v":0.48440972222222217},9.2592592592533052,{"$f":"Acquisition_brut!D19:D590","v":3880}]
[{"$f":"Acquisition_brut!B20:B221","v":0.48442129629629632},10.416666666668295,{"$f":"Acquisition_brut!D20:D591","v":4132}]
[{"$f":"Acquisition_brut!B21:B222","v":0.48442129629629632},10.416666666668295,{"$f":"Acquisition_brut!D21:D592","v":4386}]
[{"$f":"Acquisition_brut!B22:B223","v":0.48443287037037036},11.574074074072183,{"$f":"Acquisition_brut!D22:D593","v":4642}]
[{"$f":"Acquisition_brut!B23:B224","v":0.48443287037037036},11.574074074072183,{"$f":"Acquisition_brut!D23:D594","v":4897}]
[{"$f":"Acquisition_brut!B24:B225","v":0.48444444444444446},12.731481481481621,{"$f":"Acquisition_brut!D24:D595","v":5152}]
[{"$f":"Acquisition_brut!B25:B226","v":0.48444444444444446},12.731481481481621,{"$f":"Acquisition_brut!D25:D596","v":5405}]
[{"$f":"Acquisition_brut!B26:B227","v":0.48445601851851849},13.888888888885509,{"$f":"Acquisition_brut!D26:D597","v":5659}]
[{"$f":"Acquisition_brut!B27:B228","v":0.48445601851851849},13.888888888885509,{"$f":"Acquisition_brut!D27:D598","v":5914}]
[{"$f":"Acquisition_brut!B28:B229","v":0.48446759259259259},15.046296296294948,{"$f":"Acquisition_brut!D28:D599","v":6168}]
[{"$f":"Acquisition_brut!B29:B230","v":0.48446759259259259},15.046296296294948,{"$f":"Acquisition_brut!D29:D600","v":6425}]
[{"$f":"Acquisition_brut!B30:B231","v":0.48447916666666663},16.203703703698835,{"$f":"Acquisition_brut!D30:D601","v":6682}]
[{"$f":"Acquisition_brut!B31:B232","v":0.48447916666666663},16.203703703698835,{"$f":"Acquisition_brut!D31:D602","v":6939}]
[{"$f":"Acquisition_brut!B32:B233","v":0.48449074074074078},17.361111111113825,{"$f":"Acquisition_brut!D32:D603","v":7199}]
[{"$f":"Acquisition_brut!B33:B234","v":0.48449074074074078},17.361111111113825,{"$f":"Acquisition_brut!D33:D604","v":7459}]
[{"$f":"Acquisition_brut!B34:B235","v":0.48450231481481482},18.518518518517713,{"$f":"Acquisition_brut!D34:D605","v":7720}]
[{"$f":"Acquisition_brut!B35:B236","v":0.48450231481481482},18.518518518517713,{"$f":"Acquisition_brut!D35:D606","v":7980}]
[{"$f":"Acquisition_brut!B36:B237","v":0.48451388888888891},19.675925925927153,{"$f":"Acquisition_brut!D36:D607","v":8242}]
[{"$f":"Acquisition_brut!B37:B238","v":0.48451388888888891},19.675925925927153,{"$f":"Acquisition_brut!D37:D608","v":8505}]
[{"$f":"Acquisition_brut!B38:B239","v":0.48452546296296295},20.833333333331041,{"$f":"Acquisition_brut!D38:D609","v":8769}]
[{"$f":"Acquisition_brut!B39:B240","v":0.48452546296296295},20.833333333331041,{"$f":"Acquisition_brut!D39:D610","v":9033}]
[{"$f":"Acquisition_brut!B40:B241","v":0.48453703703703704},21.990740740740478,{"$f":"Acquisition_brut!D40:D611","v":9297}]
[{"$f":"Acquisition_brut!B41:B242","v":0.48453703703703704},21.990740740740478,{"$f":"Acquisition_brut!D41:D612","v":9560}]
[{"$f":"Acquisition_brut!B42:B243","v":0.48454861111111108},23.148148148144365,{"$f":"Acquisition_brut!D42:D613","v":9824}]
[{"$f":"Acquisition_brut!B43:B244","v":0.48454861111111108},23.148148148144365,{"$f":"Acquisition_brut!D43:D614","v":10089}]
[{"$f":"Acquisition_brut!B44:B245","v":0.48456018518518523},24.305555555559355,{"$f":"Acquisition_brut!D44:D615","v":10355}]
[{"$f":"Acquisition_brut!B45:B246","v":0.48456018518518523},24.305555555559355,{"$f":"Acquisition_brut!D45:D616","v":10621}]
[{"$f":"Acquisition_brut!B46:B247","v":0.48457175925925927},25.462962962963243,{"$f":"Acquisition_brut!D46:D617","v":10888}]
[{"$f":"Acquisition_brut!B47:B248","v":0.48457175925925927},25.462962962963243,{"$f":"Acquisition_brut!D47:D618","v":11157}]
[{"$f":"Acquisition_brut!B48:B249","v":0.48458333333333337},26.620370370372683,{"$f":"Acquisition_brut!D48:D619","v":11425}]
[{"$f":"Acquisition_brut!B49:B250","v":0.48458333333333337},26.620370370372683,{"$f":"Acquisition_brut!D49:D620","v":11693}]
[{"$f":"Acquisition_brut!B50:B251","v":0.4845949074074074},27.777777777776571,{"$f":"Acquisition_brut!D50:D621","v":11961}]
[{"$f":"Acquisition_brut!B51:B252","v":0.4845949074074074},27.777777777776571,{"$f":"Acquisition_brut!D51:D622","v":12231}]
[{"$f":"Acquisition_brut!B52:B253","v":0.4846064814814815},28.935185185186008,{"$f":"Acquisition_brut!D52:D623","v":12502}]
[{"$f":"Acquisition_brut!B53:B254","v":0.4846064814814815},28.935185185186008,{"$f":"Acquisition_brut!D53:D624","v":12776}]
[{"$f":"Acquisition_brut!B54:B255","v":0.48461805555555554},30.092592592589895,{"$f":"Acquisition_brut!D54:D625","v":13051}]
[{"$f":"Acquisition_brut!B55:B256","v":0.48461805555555554},30.092592592589895,{"$f":"Acquisition_brut!D55:D626","v":13327}]
[{"$f":"Acquisition_brut!B56:B257","v":0.48462962962962958},31.249999999993783,{"$f":"Acquisition_brut!D56:D627","v":13603}]
[{"$f":"Acquisition_brut!B57:B258","v":0.48462962962962958},31.249999999993783,{"$f":"Acquisition_brut!D57:D628","v":13879}]
[{"$f":"Acquisition_brut!B58:B259","v":0.48464120370370373},32.407407407408769,{"$f":"Acquisition_brut!D58:D629","v":14155}]
[{"$f":"Acquisition_brut!B59:B260","v":0.48464120370370373},32.407407407408769,{"$f":"Acquisition_brut!D59:D630","v":14431}]
[{"$f":"Acquisition_brut!B60:B261","v":0.48465277777777777},33.564814814812664,{"$f":"Acquisition_brut!D60:D631","v":14709}]
[{"$f":"Acquisition_brut!B61:B262","v":0.48465277777777777},33.564814814812664,{"$f":"Acquisition_brut!D61:D632","v":14988}]
[{"$f":"Acquisition_brut!B62:B263","v":0.48466435185185186},34.722222222222101,{"$f":"Acquisition_brut!D62:D633","v":15268}]
[{"$f":"Acquisition_brut!B63:B264","v":0.48466435185185186},34.722222222222101,{"$f":"Acquisition_brut!D63:D634","v":15549}]
[{"$f":"Acquisition_brut!B64:B265","v":0.4846759259259259},35.879629629625988,{"$f":"Acquisition_brut!D64:D635","v":15830}]
[{"$f":"Acquisition_brut!B65:B266","v":0.4846759259259259},35.879629629625988,{"$f":"Acquisition_brut!D65:D636","v":16110}]
[{"$f":"Acquisition_brut!B66:B267","v":0.48468749999999999},37.037037037035425,{"$f":"Acquisition_brut!D66:D637","v":16392}]
[{"$f":"Acquisition_brut!B67:B268","v":0.48468749999999999},{"$f":"(A67-$A$2)*100000","v":37.037037037035425},{"$f":"Acquisition_brut!D67:D638","v":16674}]
[{"$f":"Acquisition_brut!B68:B269","v":0.48469907407407403},38.194444444439313,{"$f":"Acquisition_brut!D68:D639","v":16958}]
[{"$f":"Acquisition_brut!B69:B270","v":0.48469907407407403},38.194444444439313,{"$f":"Acquisition_brut!D69:D640","v":17243}]
[{"$f":"Acquisition_brut!B70:B271","v":0.48471064814814818},39.351851851854306,{"$f":"Acquisition_brut!D70:D641","v":17529}]
[{"$f":"Acquisition_brut!B71:B272","v":0.48471064814814818},39.351851851854306,{"$f":"Acquisition_brut!D71:D642","v":17816}]
[{"$f":"Acquisition_brut!B72:B273","v":0.48472222222222222},40.509259259258187,{"$f":"Acquisition_brut!D72:D643","v":18103}]
[{"$f":"Acquisition_brut!B73:B274","v":0.48472222222222222},40.509259259258187,{"$f":"Acquisition_brut!D73:D644","v":18391}]
[{"$f":"Acquisition_brut!B74:B275","v":0.48473379629629632},41.666666666667631,{"$f":"Acquisition_brut!D74:D645","v":18678}]
[{"$f":"Acquisition_brut!B75:B276","v":0.48473379629629632},41.666666666667631,{"$f":"Acquisition_brut!D75:D646","v":18966}]
[{"$f":"Acquisition_brut!B76:B277","v":0.48474537037037035},42.824074074071518,{"$f":"Acquisition_brut!D76:D647","v":19254}]
[{"$f":"Acquisition_brut!B77:B278","v":0.48474537037037035},42.824074074071518,{"$f":"Acquisition_brut!D77:D648","v":19544}]
[{"$f":"Acquisition_brut!B78:B279","v":0.48475694444444445},43.981481481480955,{"$f":"Acquisition_brut!D78:D649","v":19834}]
[{"$f":"Acquisition_brut!B79:B280","v":0.48475694444444445},43.981481481480955,{"$f":"Acquisition_brut!D79:D650","v":20123}]
[{"$f":"Acquisition_brut!B80:B281","v":0.48476851851851849},45.138888888884843,{"$f":"Acquisition_brut!D80:D651","v":20412}]
[{"$f":"Acquisition_brut!B81:B282","v":0.48476851851851849},45.138888888884843,{"$f":"Acquisition_brut!D81:D652","v":20703}]
[{"$f":"Acquisition_brut!B82:B283","v":0.48478009259259264},46.296296296299829,{"$f":"Acquisition_brut!D82:D653","v":20998}]
[{"$f":"Acquisition_brut!B83:B284","v":0.48478009259259264},46.296296296299829,{"$f":"Acquisition_brut!D83:D654","v":21293}]
[{"$f":"Acquisition_brut!B84:B285","v":0.48479166666666668},47.453703703703724,{"$f":"Acquisition_brut!D84:D655","v":21589}]
[{"$f":"Acquisition_brut!B85:B286","v":0.48479166666666668},47.453703703703724,{"$f":"Acquisition_brut!D85:D656","v":21885}]
[{"$f":"Acquisition_brut!B86:B287","v":0.48480324074074077},48.611111111113161,{"$f":"Acquisition_brut!D86:D657","v":22183}]
[{"$f":"Acquisition_brut!B87:B288","v":0.48480324074074077},48.611111111113161,{"$f":"Acquisition_brut!D87:D658","v":22481}]
[{"$f":"Acquisition_brut!B88:B289","v":0.48481481481481481},49.768518518517048,{"$f":"Acquisition_brut!D88:D659","v":22779}]
[{"$f":"Acquisition_brut!B89:B290","v":0.48481481481481481},49.768518518517048,{"$f":"Acquisition_brut!D89:D660","v":23080}]
[{"$f":"Acquisition_brut!B90:B291","v":0.4848263888888889},50.925925925926485,{"$f":"Acquisition_brut!D90:D661","v":23383}]
[{"$f":"Acquisition_brut!B91:B292","v":0.4848263888888889},50.925925925926485,{"$f":"Acquisition_brut!D91:D662","v":23687}]
[{"$f":"Acquisition_brut!B92:B293","v":0.48483796296296294},52.083333333330373,{"$f":"Acquisition_brut!D92:D663","v":23991}]
[{"$f":"Acquisition_brut!B93:B294","v":0.48483796296296294},52.083333333330373,{"$f":"Acquisition_brut!D93:D664","v":24296}]
[{"$f":"Acquisition_brut!B94:B295","v":0.48484953703703698},53.24074074073426,{"$f":"Acquisition_brut!D94:D665","v":24602}]
[{"$f":"Acquisition_brut!B95:B296","v":0.48484953703703698},53.24074074073426,{"$f":"Acquisition_brut!D95:D666","v":24908}]
[{"$f":"Acquisition_brut!B96:B297","v":0.48486111111111113},54.398148148149247,{"$f":"Acquisition_brut!D96:D667","v":25216}]
[{"$f":"Acquisition_brut!B97:B298","v":0.48486111111111113},54.398148148149247,{"$f":"Acquisition_brut!D97:D668","v":25525}]
[{"$f":"Acquisition_brut!B98:B299","v":0.48487268518518517},55.555555555553141,{"$f":"Acquisition_brut!D98:D669","v":25835}]
[{"$f":"Acquisition_brut!B99:B300","v":0.48487268518518517},55.555555555553141,{"$f":"Acquisition_brut!D99:D670","v":26146}]
[{"$f":"Acquisition_brut!B100:B301","v":0.48488425925925926},56.712962962962578,{"$f":"Acquisition_brut!D100:D671","v":26456}]
[{"$f":"Acquisition_brut!B101:B302","v":0.48488425925925926},56.712962962962578,{"$f":"Acquisition_brut!D101:D672","v":26765}]
[{"$f":"Acquisition_brut!B102:B303","v":0.4848958333333333},57.870370370366466,{"$f":"Acquisition_brut!D102:D673","v":27073}]
[{"$f":"Acquisition_brut!B103:B304","v":0.4848958333333333},57.870370370366466,{"$f":"Acquisition_brut!D103:D674","v":27380}]
[{"$f":"Acquisition_brut!B104:B305","v":0.4849074074074074},59.027777777775903,{"$f":"Acquisition_brut!D104:D675","v":27688}]
[{"$f":"Acquisition_brut!B105:B306","v":0.4849074074074074},59.027777777775903,{"$f":"Acquisition_brut!D105:D676","v":27995}]
[{"$f":"Acquisition_brut!B106:B307","v":0.48491898148148144},{"$f":"(A106-$A$2)*100000","v":60.18518518517979},{"$f":"Acquisition_brut!D106:D677","v":28302}]
[{"$f":"Acquisition_brut!B107:B308","v":0.48491898148148144},60.18518518517979,{"$f":"Acquisition_brut!D107:D678","v":28605}]
[{"$f":"Acquisition_brut!B108:B309","v":0.48493055555555559},61.342592592594784,{"$f":"Acquisition_brut!D108:D679","v":28633}]